BEGIN:VCALENDAR
VERSION:2.0
PRODID:-//Jack and Jill Children&#039;s Foundation - ECPv4.4.2//NONSGML v1.0//EN
CALSCALE:GREGORIAN
METHOD:PUBLISH
X-WR-CALNAME:Jack and Jill Children&#039;s Foundation
X-ORIGINAL-URL:https://www.jackandjill.ie
X-WR-CALDESC:Events for Jack and Jill Children&#039;s Foundation
BEGIN:VEVENT
DTSTART;TZID=Europe/Dublin:20161026T190000
DTEND;TZID=Europe/Dublin:20161026T230000
DTSTAMP:20171101T003937
CREATED:20160930T101045Z
LAST-MODIFIED:20160930T105208Z
UID:14589-1477508400-1477522800@www.jackandjill.ie
SUMMARY:Cookery Demonstration with Celebrity Chef Neven Maguire
DESCRIPTION:\n\n\nJack & Jill are delighted to be in the company of one of Ireland’s best loved celebrity chefs\, Neven Maguire\, on the 26th October when he hosts a Cookery Demonstration\n@ the Westgrove Hotel\, Clane\, Co. Kildare\n\nThe evening is guaranteed to be a wonderful mix of food\, chat and banter as Neven shares not only his culinary expertise and lots of useful tips but also some personal stories which really gives us an insight into the man himself.\n\nDoors open at 7pm with a drinks reception and “Food & Craft” fair displaying and selling an array of varied products.  An ideal opportunity to do some early Christmas shopping!!  Neven then takes to the stage at 8pm where he will cook a delicious 3 course meal before your very eyes.\n\nWith lots of prizes to be won in the raffle on the night and a fantastic goody bag\,  you’re guaranteed a wonderful “value for money” night out and will be helping us to provide home nursing respite care for our profoundly sick children in your very own community.\n\nLooking forward to seeing you there!\n\n\nTickets for this event are limited soBOOK NOW to avoid disappointment!\n\nPowered by Eventbrite\n\nFAQs\nWhat are my transport/parking options getting to the event?\nCar Parking is FREE at the Westgrove Hotel.\n \nDo I have to bring my printed ticket to the event?\nYes you must have your printed Ticket for entry to the event but you can also present the e-ticket on your smart phone.\n\n\n\n
URL:https://www.jackandjill.ie/events/cookery-demonstration-with-celebrity-chef-neven-maguire/
LOCATION:Clane
ATTACH;FMTTYPE=image/jpeg:https://www.jackandjill.ie/wp-content/uploads/2016/09/neven-maguire-thumb.jpg
END:VEVENT
END:VCALENDAR