BEGIN:VCALENDAR
VERSION:2.0
PRODID:-//Jack and Jill Children&#039;s Foundation - ECPv4.4.2//NONSGML v1.0//EN
CALSCALE:GREGORIAN
METHOD:PUBLISH
X-WR-CALNAME:Jack and Jill Children&#039;s Foundation
X-ORIGINAL-URL:https://www.jackandjill.ie
X-WR-CALDESC:Events for Jack and Jill Children&#039;s Foundation
BEGIN:VEVENT
DTSTART;TZID=Europe/Dublin:20171031T170000
DTEND;TZID=Europe/Dublin:20171031T200000
DTSTAMP:20171101T003220
CREATED:20170906T082955Z
LAST-MODIFIED:20170906T082955Z
UID:16502-1509469200-1509480000@www.jackandjill.ie
SUMMARY:Kids Halloween Party at Westgrove Hotel
DESCRIPTION:The Westgrove Hotel\, Clane is hosting a Kids Halloween Party on Tuesday 31st October between 5 – 8pm\nThere are lots of fun and games lined up for a Spoooooooktacular evening.\n\n \tFacepainting\n \tMagic Show\n \tKarokie\n \tDisco and lots more\n\nEntry €5 per child and Adults go FREEE!!!\n
URL:https://www.jackandjill.ie/events/kids-halloween-party-at-westgrove-hotel/
LOCATION:Clane\, Co Kildare
ATTACH;FMTTYPE=image/jpeg:https://www.jackandjill.ie/wp-content/uploads/2017/09/Westgrove-Halloween-2017-thumb.jpg
END:VEVENT
END:VCALENDAR